BEGIN:VCALENDAR
VERSION:2.0
PRODID:-//wp-events-plugin.com//6.6.3//EN
BEGIN:VEVENT
UID:3@dixonandricks.education
DTSTART;TZID=Africa/Lagos:20241119T160000
DTEND;TZID=Africa/Lagos:20241119T170000
DTSTAMP:20250127T154340Z
URL:https://dixonandricks.education/events/a-chat-with-the-school-of-nursi
 ng/
SUMMARY:A Chat with the school of Nursing
DESCRIPTION:
ATTACH;FMTTYPE=image/jpeg:https://dixonandricks.education/wp-content/uploa
 ds/2025/01/WhatsApp-Image-2024-11-18-at-11.25.51-500x500-1.jpeg
CATEGORIES:Career
LOCATION:#
END:VEVENT
BEGIN:VTIMEZONE
TZID:Africa/Lagos
X-LIC-LOCATION:Africa/Lagos
BEGIN:STANDARD
DTSTART:20231120T160000
TZOFFSETFROM:+0100
TZOFFSETTO:+0100
TZNAME:WAT
END:STANDARD
END:VTIMEZONE
END:VCALENDAR