BEGIN:VCALENDAR
VERSION:2.0
PRODID:-//wp-events-plugin.com//6.6.3//EN
BEGIN:VEVENT
UID:5@dixonandricks.education
DTSTART;TZID=Africa/Lagos:20240612T160000
DTEND;TZID=Africa/Lagos:20240612T170000
DTSTAMP:20250127T154703Z
URL:https://dixonandricks.education/events/conversation-with-the-vice-chan
 cellor-of-leeds-trinity-university/
SUMMARY:Conversation with the vice chancellor of Leeds Trinity University
DESCRIPTION:
ATTACH;FMTTYPE=image/jpeg:https://dixonandricks.education/wp-content/uploa
 ds/2025/01/leed-500x500-1.jpg
CATEGORIES:Career,Webinar
LOCATION:#
END:VEVENT
BEGIN:VTIMEZONE
TZID:Africa/Lagos
X-LIC-LOCATION:Africa/Lagos
BEGIN:STANDARD
DTSTART:20230613T160000
TZOFFSETFROM:+0100
TZOFFSETTO:+0100
TZNAME:WAT
END:STANDARD
END:VTIMEZONE
END:VCALENDAR