BEGIN:VCALENDAR
VERSION:2.0
PRODID:-//wp-events-plugin.com//6.6.3//EN
BEGIN:VEVENT
UID:1@dixonandricks.education
DTSTART;TZID=Africa/Lagos:20241210T160000
DTEND;TZID=Africa/Lagos:20241210T170000
DTSTAMP:20250127T152322Z
URL:https://dixonandricks.education/events/discover-the-future-of-tech/
SUMMARY:Discover the future of Tech.
DESCRIPTION:
ATTACH;FMTTYPE=image/jpeg:https://dixonandricks.education/wp-content/uploa
 ds/2025/01/WhatsApp-Image-2024-12-09-at-14.23.20.jpeg
CATEGORIES:Webinar
LOCATION:#
END:VEVENT
BEGIN:VTIMEZONE
TZID:Africa/Lagos
X-LIC-LOCATION:Africa/Lagos
BEGIN:STANDARD
DTSTART:20231211T160000
TZOFFSETFROM:+0100
TZOFFSETTO:+0100
TZNAME:WAT
END:STANDARD
END:VTIMEZONE
END:VCALENDAR