BEGIN:VCALENDAR
VERSION:2.0
PRODID:-//wp-events-plugin.com//6.6.3//EN
BEGIN:VEVENT
UID:7@dixonandricks.education
DTSTART;TZID=Africa/Lagos:20250822T170000
DTEND;TZID=Africa/Lagos:20250822T180000
DTSTAMP:20250807T081152Z
URL:https://dixonandricks.education/events/explore-in-demand-stem-programm
 e/
SUMMARY:Explore In-demand STEM Programme
DESCRIPTION:
ATTACH;FMTTYPE=image/jpeg:https://dixonandricks.education/wp-content/uploa
 ds/2025/08/Dixon-Ricks-Education-Comms_172-scaled.jpg
CATEGORIES:Career,Webinar
LOCATION:https://forms.gle/zP26zzbHarWjRrB96
END:VEVENT
BEGIN:VTIMEZONE
TZID:Africa/Lagos
X-LIC-LOCATION:Africa/Lagos
BEGIN:STANDARD
DTSTART:20240822T170000
TZOFFSETFROM:+0100
TZOFFSETTO:+0100
TZNAME:WAT
END:STANDARD
END:VTIMEZONE
END:VCALENDAR