BEGIN:VCALENDAR
VERSION:2.0
PRODID:-//wp-events-plugin.com//6.6.3//EN
BEGIN:VEVENT
UID:2@dixonandricks.education
DTSTART;TZID=Africa/Lagos:20241126T160000
DTEND;TZID=Africa/Lagos:20241126T170000
DTSTAMP:20250127T154152Z
URL:https://dixonandricks.education/events/exploring-your-career-path/
SUMMARY:Exploring your career path
DESCRIPTION:
ATTACH;FMTTYPE=image/jpeg:https://dixonandricks.education/wp-content/uploa
 ds/2025/01/WhatsApp-Image-2024-11-18-at-15.23.50.jpeg
CATEGORIES:Career
LOCATION:#
END:VEVENT
BEGIN:VTIMEZONE
TZID:Africa/Lagos
X-LIC-LOCATION:Africa/Lagos
BEGIN:STANDARD
DTSTART:20231127T160000
TZOFFSETFROM:+0100
TZOFFSETTO:+0100
TZNAME:WAT
END:STANDARD
END:VTIMEZONE
END:VCALENDAR