BEGIN:VCALENDAR
VERSION:2.0
PRODID:-//wp-events-plugin.com//6.6.3//EN
BEGIN:VEVENT
UID:8@dixonandricks.education
DTSTART;TZID=Africa/Lagos:20260324T170000
DTEND;TZID=Africa/Lagos:20260324T190000
DTSTAMP:20260415T142754Z
URL:https://dixonandricks.education/events/leeds-trinity-university-event/
SUMMARY:Leeds Trinity University Event
DESCRIPTION:Discover how to pursue a Data Science and Artificial Intelligen
 ce Degree at Leeds Trinity University 
ATTACH;FMTTYPE=image/jpeg:https://dixonandricks.education/wp-content/uploa
 ds/2026/04/Leeds-Trinity-University-Comms_5.jpg-scaled.jpeg
CATEGORIES:Career,School Visit,Webinar
END:VEVENT
BEGIN:VTIMEZONE
TZID:Africa/Lagos
X-LIC-LOCATION:Africa/Lagos
BEGIN:STANDARD
DTSTART:20250324T170000
TZOFFSETFROM:+0100
TZOFFSETTO:+0100
TZNAME:WAT
END:STANDARD
END:VTIMEZONE
END:VCALENDAR