BEGIN:VCALENDAR
VERSION:2.0
PRODID:-//wp-events-plugin.com//6.6.3//EN
BEGIN:VEVENT
UID:6@dixonandricks.education
DTSTART;TZID=Africa/Lagos:20240511T180000
DTEND;TZID=Africa/Lagos:20240511T190000
DTSTAMP:20250127T154802Z
URL:https://dixonandricks.education/events/navigate-your-future/
SUMMARY:Navigate your future
DESCRIPTION:
ATTACH;FMTTYPE=image/jpeg:https://dixonandricks.education/wp-content/uploa
 ds/2025/01/2-500x500-1.jpg
CATEGORIES:Career,Webinar
LOCATION:#
END:VEVENT
BEGIN:VTIMEZONE
TZID:Africa/Lagos
X-LIC-LOCATION:Africa/Lagos
BEGIN:STANDARD
DTSTART:20230512T180000
TZOFFSETFROM:+0100
TZOFFSETTO:+0100
TZNAME:WAT
END:STANDARD
END:VTIMEZONE
END:VCALENDAR