BEGIN:VCALENDAR
VERSION:2.0
PRODID:-//wp-events-plugin.com//6.6.3//EN
BEGIN:VEVENT
UID:9@dixonandricks.education
DTSTART;TZID=Africa/Lagos:20260417T170000
DTEND;TZID=Africa/Lagos:20260417T193000
DTSTAMP:20260415T143731Z
URL:https://dixonandricks.education/events/postgraduate-opportunities-in-c
 hildhood-mental-health-education/
SUMMARY:Postgraduate Opportunities in Childhood & Mental Health Education
DESCRIPTION:Join our FREE Webinar with LEEDS Trinity University and discove
 r two-high  demand Programmes.
ATTACH;FMTTYPE=image/jpeg:https://dixonandricks.education/wp-content/uploa
 ds/2026/04/Leeds-Trinity-University-Comms_6b.jpg-scaled.jpeg
CATEGORIES:Career,Webinar
END:VEVENT
BEGIN:VTIMEZONE
TZID:Africa/Lagos
X-LIC-LOCATION:Africa/Lagos
BEGIN:STANDARD
DTSTART:20250417T170000
TZOFFSETFROM:+0100
TZOFFSETTO:+0100
TZNAME:WAT
END:STANDARD
END:VTIMEZONE
END:VCALENDAR