BEGIN:VCALENDAR
VERSION:2.0
PRODID:-//wp-events-plugin.com//6.6.3//EN
BEGIN:VEVENT
UID:4@dixonandricks.education
DTSTART;TZID=Africa/Lagos:20241112T160000
DTEND;TZID=Africa/Lagos:20241112T170000
DTSTAMP:20250127T154459Z
URL:https://dixonandricks.education/events/qa-session/
SUMMARY:Q&A Session
DESCRIPTION:
ATTACH;FMTTYPE=image/jpeg:https://dixonandricks.education/wp-content/uploa
 ds/2025/01/WhatsApp-Image-2024-11-07-at-17.06.51-500x500-1.jpeg
CATEGORIES:Career,Webinar
END:VEVENT
BEGIN:VTIMEZONE
TZID:Africa/Lagos
X-LIC-LOCATION:Africa/Lagos
BEGIN:STANDARD
DTSTART:20231113T160000
TZOFFSETFROM:+0100
TZOFFSETTO:+0100
TZNAME:WAT
END:STANDARD
END:VTIMEZONE
END:VCALENDAR